BEGIN:VCALENDAR
VERSION:2.0
PRODID:-//Paid Search Association - ECPv6.15.20//NONSGML v1.0//EN
CALSCALE:GREGORIAN
METHOD:PUBLISH
X-ORIGINAL-URL:https://paidsearch.org
X-WR-CALDESC:Events for Paid Search Association
REFRESH-INTERVAL;VALUE=DURATION:PT1H
X-Robots-Tag:noindex
X-PUBLISHED-TTL:PT1H
BEGIN:VTIMEZONE
TZID:America/New_York
BEGIN:DAYLIGHT
TZOFFSETFROM:-0500
TZOFFSETTO:-0400
TZNAME:EDT
DTSTART:20250309T070000
END:DAYLIGHT
BEGIN:STANDARD
TZOFFSETFROM:-0400
TZOFFSETTO:-0500
TZNAME:EST
DTSTART:20251102T060000
END:STANDARD
BEGIN:DAYLIGHT
TZOFFSETFROM:-0500
TZOFFSETTO:-0400
TZNAME:EDT
DTSTART:20260308T070000
END:DAYLIGHT
BEGIN:STANDARD
TZOFFSETFROM:-0400
TZOFFSETTO:-0500
TZNAME:EST
DTSTART:20261101T060000
END:STANDARD
BEGIN:DAYLIGHT
TZOFFSETFROM:-0500
TZOFFSETTO:-0400
TZNAME:EDT
DTSTART:20270314T070000
END:DAYLIGHT
BEGIN:STANDARD
TZOFFSETFROM:-0400
TZOFFSETTO:-0500
TZNAME:EST
DTSTART:20271107T060000
END:STANDARD
END:VTIMEZONE
BEGIN:VEVENT
DTSTART;VALUE=DATE:20260714
DTEND;VALUE=DATE:20260715
DTSTAMP:20260419T225553
CREATED:20260224T032431Z
LAST-MODIFIED:20260320T121017Z
UID:10768-1783987200-1784073599@paidsearch.org
SUMMARY:MozCon NYC 2026
DESCRIPTION:This year\, we had an excellent time going to London & New York City. That’s why we’re taking MozCon back on the road in 2026. Be a part of the journey as we reimagine what in-person connection and events can be. Purchase your ticket to New York City or sign up for the London waitlist to reserve your spot in the MozCon Roadshow next year!
URL:https://paidsearch.org/event/mozcon-nyc-2026/
LOCATION:The Glasshouse\, 660 12th Ave Floor 6\, New York\, NY\, 10019\, United States
CATEGORIES:conference,offline
END:VEVENT
BEGIN:VEVENT
DTSTART;VALUE=DATE:20260911
DTEND;VALUE=DATE:20260912
DTSTAMP:20260419T225553
CREATED:20260224T035537Z
LAST-MODIFIED:20260224T035537Z
UID:10785-1789084800-1789171199@paidsearch.org
SUMMARY:Digital Olympus 2026
DESCRIPTION:
URL:https://paidsearch.org/event/digital-olympus-2026/
CATEGORIES:conference,offline
END:VEVENT
BEGIN:VEVENT
DTSTART;VALUE=DATE:20260929
DTEND;VALUE=DATE:20261002
DTSTAMP:20260419T225553
CREATED:20260212T024244Z
LAST-MODIFIED:20260212T024244Z
UID:10725-1790640000-1790899199@paidsearch.org
SUMMARY:SMX Advanced Berlin 2026
DESCRIPTION:SMX Advanced 2026 is a three-day experience designed for advanced search marketers. Two days of advanced sessions across SEO\, PPC\, GEO and AI — followed by a dedicated Deep Dive Day for hands-on\, expert-led learning. It’s where strategic insights meet practical implementation. You’ll leave not just inspired\, but equipped. \nMore information at https://smxadvanced.eu.
URL:https://paidsearch.org/event/smx-advanced-berlin-2026/
LOCATION:Meliá Hotel Berlin\, Friedrichstraße 103\, Berlin\, 10117\, Germany
CATEGORIES:conference,offline
ATTACH;FMTTYPE=image/png:https://paidsearch.org/wp-content/uploads/2026/02/smx_adv_eu-Berlin_logo.avif
END:VEVENT
BEGIN:VEVENT
DTSTART;VALUE=DATE:20261113
DTEND;VALUE=DATE:20261114
DTSTAMP:20260419T225553
CREATED:20260224T032753Z
LAST-MODIFIED:20260224T033025Z
UID:10771-1794528000-1794614399@paidsearch.org
SUMMARY:MozCon London 2026
DESCRIPTION:
URL:https://paidsearch.org/event/mozcon-london-2026/
LOCATION:Convene 22\, 22 Bishopsgate\, London\, EC2N 4BQ\, United Kingdom
CATEGORIES:conference,offline
ATTACH;FMTTYPE=image/png:https://paidsearch.org/wp-content/uploads/2026/02/MozCon_2019_logo.avif
END:VEVENT
BEGIN:VEVENT
DTSTART;VALUE=DATE:20261113
DTEND;VALUE=DATE:20261114
DTSTAMP:20260419T225553
CREATED:20260224T033915Z
LAST-MODIFIED:20260224T033915Z
UID:10775-1794528000-1794614399@paidsearch.org
SUMMARY:International Search Summit 2026
DESCRIPTION:An event packed with learning\, networking and conversation. A place for search\, paid and content marketers.
URL:https://paidsearch.org/event/international-search-summit-2026/
LOCATION:World Trade Center Barcelona\, 1ª planta Edif. Este\, Barcelona\, 08039\, Spain
CATEGORIES:conference,offline
END:VEVENT
END:VCALENDAR